BEGIN:VCALENDAR
VERSION:2.0
PRODID:-// - ECPv5.14.0.2//NONSGML v1.0//EN
CALSCALE:GREGORIAN
METHOD:PUBLISH
X-ORIGINAL-URL:https://www.fourquarterbar.com
X-WR-CALDESC:Events for 
BEGIN:VTIMEZONE
TZID:America/Chicago
BEGIN:DAYLIGHT
TZOFFSETFROM:-0600
TZOFFSETTO:-0500
TZNAME:CDT
DTSTART:20230312T080000
END:DAYLIGHT
BEGIN:STANDARD
TZOFFSETFROM:-0500
TZOFFSETTO:-0600
TZNAME:CST
DTSTART:20231105T070000
END:STANDARD
END:VTIMEZONE
BEGIN:VEVENT
DTSTART;TZID=America/Chicago:20230106T213000
DTEND;TZID=America/Chicago:20230107T010000
DTSTAMP:20260421T085837
CREATED:20230124T005106Z
LAST-MODIFIED:20230124T005106Z
UID:1963-1673040600-1673053200@www.fourquarterbar.com
SUMMARY:Punkadelick- Mike Dillon and Brian Haas- Record Release Tour
DESCRIPTION:9:30 pm \n$10 Cover
URL:https://www.fourquarterbar.com/event/punkadelick-mike-dillon-and-brian-haas-record-release-tour/
LOCATION:Four Quarter Bar\, 415 Main St.\, North Little Rock\, AR\, 72114\, United States
ATTACH;FMTTYPE=image/jpeg:https://www.fourquarterbar.com/wp-content/uploads/2023/01/mikedillon2023.jpg
END:VEVENT
END:VCALENDAR