BEGIN:VCALENDAR
VERSION:2.0
PRODID:-// - ECPv5.14.0.2//NONSGML v1.0//EN
CALSCALE:GREGORIAN
METHOD:PUBLISH
X-ORIGINAL-URL:https://www.fourquarterbar.com
X-WR-CALDESC:Events for 
BEGIN:VTIMEZONE
TZID:America/Chicago
BEGIN:DAYLIGHT
TZOFFSETFROM:-0600
TZOFFSETTO:-0500
TZNAME:CDT
DTSTART:20240310T080000
END:DAYLIGHT
BEGIN:STANDARD
TZOFFSETFROM:-0500
TZOFFSETTO:-0600
TZNAME:CST
DTSTART:20241103T070000
END:STANDARD
END:VTIMEZONE
BEGIN:VEVENT
DTSTART;TZID=America/Chicago:20241227T213000
DTEND;TZID=America/Chicago:20241228T010000
DTSTAMP:20260420T015300
CREATED:20241204T232322Z
LAST-MODIFIED:20241204T232322Z
UID:2478-1735335000-1735347600@www.fourquarterbar.com
SUMMARY:Rachael Ammons
DESCRIPTION:9:30 PM \n$10 Cover
URL:https://www.fourquarterbar.com/event/rachael-ammons/
LOCATION:Four Quarter Bar\, 415 Main St.\, North Little Rock\, AR\, 72114\, United States
ATTACH;FMTTYPE=image/jpeg:https://www.fourquarterbar.com/wp-content/uploads/2021/11/rachelammons.jpg
END:VEVENT
END:VCALENDAR