BEGIN:VCALENDAR
VERSION:2.0
PRODID:-// - ECPv5.14.0.2//NONSGML v1.0//EN
CALSCALE:GREGORIAN
METHOD:PUBLISH
X-ORIGINAL-URL:https://www.fourquarterbar.com
X-WR-CALDESC:Events for 
BEGIN:VTIMEZONE
TZID:America/Chicago
BEGIN:DAYLIGHT
TZOFFSETFROM:-0600
TZOFFSETTO:-0500
TZNAME:CDT
DTSTART:20210314T080000
END:DAYLIGHT
BEGIN:STANDARD
TZOFFSETFROM:-0500
TZOFFSETTO:-0600
TZNAME:CST
DTSTART:20211107T070000
END:STANDARD
END:VTIMEZONE
BEGIN:VEVENT
DTSTART;TZID=America/Chicago:20210615T180000
DTEND;TZID=America/Chicago:20210615T220000
DTSTAMP:20260422T091629
CREATED:20210504T200628Z
LAST-MODIFIED:20210504T200714Z
UID:1470-1623780000-1623794400@www.fourquarterbar.com
SUMMARY:Reverend Horton Heat (SOLO) with Dale Watson (SOLO)
DESCRIPTION:Tickets available at CentralArkansasTickets\n\n\n\nDon’t miss this special show with solo performances by The Reverend Horton Heat and Dale Watson!!
URL:https://www.fourquarterbar.com/event/reverend-horton-heat-solo-with-dale-watson-solo/
LOCATION:Four Quarter Bar\, 415 Main St.\, North Little Rock\, AR\, 72114\, United States
ATTACH;FMTTYPE=image/jpeg:https://www.fourquarterbar.com/wp-content/uploads/2021/05/rev_20210504.jpg
END:VEVENT
END:VCALENDAR