BEGIN:VCALENDAR
VERSION:2.0
PRODID:-// - ECPv5.14.0.2//NONSGML v1.0//EN
CALSCALE:GREGORIAN
METHOD:PUBLISH
X-ORIGINAL-URL:https://www.fourquarterbar.com
X-WR-CALDESC:Events for 
BEGIN:VTIMEZONE
TZID:America/Chicago
BEGIN:DAYLIGHT
TZOFFSETFROM:-0600
TZOFFSETTO:-0500
TZNAME:CDT
DTSTART:20190310T080000
END:DAYLIGHT
BEGIN:STANDARD
TZOFFSETFROM:-0500
TZOFFSETTO:-0600
TZNAME:CST
DTSTART:20191103T070000
END:STANDARD
END:VTIMEZONE
BEGIN:VEVENT
DTSTART;TZID=America/Chicago:20191110T160000
DTEND;TZID=America/Chicago:20191110T190000
DTSTAMP:20260422T222154
CREATED:20191029T111940Z
LAST-MODIFIED:20191029T111940Z
UID:1166-1573401600-1573412400@www.fourquarterbar.com
SUMMARY:Rick & Morty Season 4 Premiere
DESCRIPTION:NO COVER BRUH. \n“Nobody exists on purpose\, nobody belongs anywhere\, everybody’s gonna die.” \nMost of this is accurate. Except one fact: You belong with us. Sunday night. with Rebel Kettle Brewing Co.!
URL:https://www.fourquarterbar.com/event/rick-morty-season-4-premiere/
LOCATION:Four Quarter Bar\, 415 Main St.\, North Little Rock\, AR\, 72114\, United States
ATTACH;FMTTYPE=image/png:https://www.fourquarterbar.com/wp-content/uploads/2019/10/rickmorty-1.png
END:VEVENT
END:VCALENDAR