BEGIN:VCALENDAR
VERSION:2.0
PRODID:-// - ECPv5.14.0.2//NONSGML v1.0//EN
CALSCALE:GREGORIAN
METHOD:PUBLISH
X-ORIGINAL-URL:https://www.fourquarterbar.com
X-WR-CALDESC:Events for 
BEGIN:VTIMEZONE
TZID:America/Chicago
BEGIN:DAYLIGHT
TZOFFSETFROM:-0600
TZOFFSETTO:-0500
TZNAME:CDT
DTSTART:20190310T080000
END:DAYLIGHT
BEGIN:STANDARD
TZOFFSETFROM:-0500
TZOFFSETTO:-0600
TZNAME:CST
DTSTART:20191103T070000
END:STANDARD
END:VTIMEZONE
BEGIN:VEVENT
DTSTART;TZID=America/Chicago:20190815T160000
DTEND;TZID=America/Chicago:20190815T190000
DTSTAMP:20260423T014440
CREATED:20190710T012153Z
LAST-MODIFIED:20190710T012153Z
UID:1089-1565884800-1565895600@www.fourquarterbar.com
SUMMARY:Rock Bottom String Band (FREE Show)
DESCRIPTION:10 pm\nFREE Show \nRock Bottom String Band is family! What began as four strangers with a shared love of music has become a nationally touring band run on D.I.Y. values and the community of friends we’ve created along the way. Our mission is to make every show more than spectator and performer– we want our audience to feel as much a part of the show as if they were on stage themselves. For RBSB music is about making connections and growing communities and we bring that passion to our performance every time we play. Born from backyard jams in 2013\, we mix a multitude of styles to produce high energy tunes. Our many influences include bluegrass\, folk\, and americana flavored with punk\, metal\, and traditional roots. The diversity of our music enables us to play for many different groups of people in all sorts of venues. Whether it be at a family party\, a dive bar\, or on stage at festival\, RBSB brings a rowdy good time!
URL:https://www.fourquarterbar.com/event/rock-bottom-string-band-free-show-2/
LOCATION:Four Quarter Bar\, 415 Main St.\, North Little Rock\, AR\, 72114\, United States
ATTACH;FMTTYPE=image/jpeg:https://www.fourquarterbar.com/wp-content/uploads/2019/04/rockbottomstringband.jpg
END:VEVENT
END:VCALENDAR