BEGIN:VCALENDAR
VERSION:2.0
PRODID:-// - ECPv5.14.0.2//NONSGML v1.0//EN
CALSCALE:GREGORIAN
METHOD:PUBLISH
X-ORIGINAL-URL:https://www.fourquarterbar.com
X-WR-CALDESC:Events for 
BEGIN:VTIMEZONE
TZID:America/Chicago
BEGIN:DAYLIGHT
TZOFFSETFROM:-0600
TZOFFSETTO:-0500
TZNAME:CDT
DTSTART:20250309T080000
END:DAYLIGHT
BEGIN:STANDARD
TZOFFSETFROM:-0500
TZOFFSETTO:-0600
TZNAME:CST
DTSTART:20251102T070000
END:STANDARD
END:VTIMEZONE
BEGIN:VEVENT
DTSTART;TZID=America/Chicago:20250627T213000
DTEND;TZID=America/Chicago:20250628T010000
DTSTAMP:20260419T184946
CREATED:20250603T220644Z
LAST-MODIFIED:20250603T220644Z
UID:2626-1751059800-1751072400@www.fourquarterbar.com
SUMMARY:Tawanna Campbell-Berry
DESCRIPTION:Come see Tawanna Campbell-Berry she does it all! Kingdom Kid\, Wife\, Mother\, Teacher\, and Singer! She takes the stage at Four Quarter Bar this June! \nJune 27th at 9:30pm \n$8 Cover
URL:https://www.fourquarterbar.com/event/tawanna-campbell-berry/
LOCATION:Four Quarter Bar\, 415 Main St.\, North Little Rock\, AR\, 72114\, United States
END:VEVENT
END:VCALENDAR