BEGIN:VCALENDAR
VERSION:2.0
PRODID:-// - ECPv5.14.0.2//NONSGML v1.0//EN
CALSCALE:GREGORIAN
METHOD:PUBLISH
X-ORIGINAL-URL:https://www.fourquarterbar.com
X-WR-CALDESC:Events for 
BEGIN:VTIMEZONE
TZID:America/Chicago
BEGIN:DAYLIGHT
TZOFFSETFROM:-0600
TZOFFSETTO:-0500
TZNAME:CDT
DTSTART:20200308T080000
END:DAYLIGHT
BEGIN:STANDARD
TZOFFSETFROM:-0500
TZOFFSETTO:-0600
TZNAME:CST
DTSTART:20201101T070000
END:STANDARD
END:VTIMEZONE
BEGIN:VEVENT
DTSTART;TZID=America/Chicago:20200202T060000
DTEND;TZID=America/Chicago:20200202T090000
DTSTAMP:20260422T103731
CREATED:20200123T054726Z
LAST-MODIFIED:20200123T054726Z
UID:1269-1580623200-1580634000@www.fourquarterbar.com
SUMMARY:Techno Brunch
DESCRIPTION:Spinning House\, Techno and Ambient to get the groove started. There will also be an inspiring menu to fit the music vibes.
URL:https://www.fourquarterbar.com/event/techno-brunch/
LOCATION:Four Quarter Bar\, 415 Main St.\, North Little Rock\, AR\, 72114\, United States
ATTACH;FMTTYPE=image/jpeg:https://www.fourquarterbar.com/wp-content/uploads/2020/01/technobrunch_20200122.jpg
END:VEVENT
END:VCALENDAR