BEGIN:VCALENDAR
VERSION:2.0
PRODID:-// - ECPv5.14.0.2//NONSGML v1.0//EN
CALSCALE:GREGORIAN
METHOD:PUBLISH
X-ORIGINAL-URL:https://www.fourquarterbar.com
X-WR-CALDESC:Events for 
BEGIN:VTIMEZONE
TZID:America/Chicago
BEGIN:DAYLIGHT
TZOFFSETFROM:-0600
TZOFFSETTO:-0500
TZNAME:CDT
DTSTART:20250309T080000
END:DAYLIGHT
BEGIN:STANDARD
TZOFFSETFROM:-0500
TZOFFSETTO:-0600
TZNAME:CST
DTSTART:20251102T070000
END:STANDARD
END:VTIMEZONE
BEGIN:VEVENT
DTSTART;TZID=America/Chicago:20250726T213000
DTEND;TZID=America/Chicago:20250727T010000
DTSTAMP:20260419T155233
CREATED:20250701T231149Z
LAST-MODIFIED:20250701T231149Z
UID:2657-1753565400-1753578000@www.fourquarterbar.com
SUMMARY:The Big Dam Horns
DESCRIPTION:Get off your feet and get ready for a Swingin’ experience as the Big Dam Horns return to Four Quarter Bar this July! \nDisclaimer: The Big Dam Horns are not responsible for any injuries sustained during the rump shaking\, head bobbing\, or baby making resulting from listening to The Big Dam Horns. In case of emergency\, please consult Drs. Love and/or Feelgood. \n9:30 July 26th \n$10 Cover
URL:https://www.fourquarterbar.com/event/the-big-dam-horns-4/
LOCATION:Four Quarter Bar\, 415 Main St.\, North Little Rock\, AR\, 72114\, United States
END:VEVENT
END:VCALENDAR