BEGIN:VCALENDAR
VERSION:2.0
PRODID:-// - ECPv5.14.0.2//NONSGML v1.0//EN
CALSCALE:GREGORIAN
METHOD:PUBLISH
X-ORIGINAL-URL:https://www.fourquarterbar.com
X-WR-CALDESC:Events for 
BEGIN:VTIMEZONE
TZID:America/Chicago
BEGIN:DAYLIGHT
TZOFFSETFROM:-0600
TZOFFSETTO:-0500
TZNAME:CDT
DTSTART:20190310T080000
END:DAYLIGHT
BEGIN:STANDARD
TZOFFSETFROM:-0500
TZOFFSETTO:-0600
TZNAME:CST
DTSTART:20191103T070000
END:STANDARD
END:VTIMEZONE
BEGIN:VEVENT
DTSTART;TZID=America/Chicago:20190830T170000
DTEND;TZID=America/Chicago:20190830T200000
DTSTAMP:20260423T013600
CREATED:20190710T014102Z
LAST-MODIFIED:20190710T014102Z
UID:1096-1567184400-1567195200@www.fourquarterbar.com
SUMMARY:The Big Damn Horns at Four Quarter
DESCRIPTION:10 pm\n$7 Cover \nFormed in May of 2012 The Big Dam Horns consist of musicians from all around central and southwest Arkansas who met while attending Henderson State University in Arkadelphia. More than your average rock band but smaller than a big band\, The Big Dam Horns are a modern day mixture of New Orleans style brass band and alternative rock band playing a wide range of music from the 60’s to today all while adding their own flair.
URL:https://www.fourquarterbar.com/event/the-big-damn-horns-at-four-quarter/
LOCATION:Four Quarter Bar\, 415 Main St.\, North Little Rock\, AR\, 72114\, United States
ATTACH;FMTTYPE=image/jpeg:https://www.fourquarterbar.com/wp-content/uploads/2018/08/Big-Damn-Horns.jpg
END:VEVENT
END:VCALENDAR