BEGIN:VCALENDAR
VERSION:2.0
PRODID:-// - ECPv5.14.0.2//NONSGML v1.0//EN
CALSCALE:GREGORIAN
METHOD:PUBLISH
X-ORIGINAL-URL:https://www.fourquarterbar.com
X-WR-CALDESC:Events for 
BEGIN:VTIMEZONE
TZID:America/Chicago
BEGIN:DAYLIGHT
TZOFFSETFROM:-0600
TZOFFSETTO:-0500
TZNAME:CDT
DTSTART:20190310T080000
END:DAYLIGHT
BEGIN:STANDARD
TZOFFSETFROM:-0500
TZOFFSETTO:-0600
TZNAME:CST
DTSTART:20191103T070000
END:STANDARD
END:VTIMEZONE
BEGIN:VEVENT
DTSTART;TZID=America/Chicago:20190622T170000
DTEND;TZID=America/Chicago:20190622T200000
DTSTAMP:20260423T044559
CREATED:20190530T030713Z
LAST-MODIFIED:20190620T211231Z
UID:1064-1561222800-1561233600@www.fourquarterbar.com
SUMMARY:The Going Jessies w/ Amy Garland Angel & Rachel Ammons  at Four Quarter
DESCRIPTION:10 pm\n$7 Cover \nThey call themselves The Going Jessies. Are any of them named Jessie? Well\, no\, but that’s not really the point of this story. When you decide to be a band\, people expect you to have a name\, and The Going Jessies is as good a name as any don’t you think?\nSo anyway\, these three people who had been in several other bands together that weren’t bands anymore decided to try a new band because they really like to play music\, and if you’re going to play music anyway\, you might as well go out and play it for other people who like to hear music and maybe get a free drink or two out of the deal sometimes\, so that’s what they did.\nIf you are one of those people who likes to hear music\, we hope you will consider hearing ours sometime. Cheers.
URL:https://www.fourquarterbar.com/event/the-going-jessies-w-amy-garland-angel-at-four-quarter/
LOCATION:Four Quarter Bar\, 415 Main St.\, North Little Rock\, AR\, 72114\, United States
ATTACH;FMTTYPE=image/jpeg:https://www.fourquarterbar.com/wp-content/uploads/2019/05/thegoingjessies.jpg
END:VEVENT
END:VCALENDAR