BEGIN:VCALENDAR
VERSION:2.0
PRODID:-// - ECPv5.14.0.2//NONSGML v1.0//EN
CALSCALE:GREGORIAN
METHOD:PUBLISH
X-ORIGINAL-URL:https://www.fourquarterbar.com
X-WR-CALDESC:Events for 
BEGIN:VTIMEZONE
TZID:America/Chicago
BEGIN:DAYLIGHT
TZOFFSETFROM:-0600
TZOFFSETTO:-0500
TZNAME:CDT
DTSTART:20190310T080000
END:DAYLIGHT
BEGIN:STANDARD
TZOFFSETFROM:-0500
TZOFFSETTO:-0600
TZNAME:CST
DTSTART:20191103T070000
END:STANDARD
END:VTIMEZONE
BEGIN:VEVENT
DTSTART;TZID=America/Chicago:20190823T170000
DTEND;TZID=America/Chicago:20190823T200000
DTSTAMP:20260423T014439
CREATED:20190710T022222Z
LAST-MODIFIED:20190710T022222Z
UID:1100-1566579600-1566590400@www.fourquarterbar.com
SUMMARY:The Great Whiskey Rendezvous
DESCRIPTION:10 pm\n$7 cover \nJoin us for the Chris Stapleton after party with The Great Whiskey Rendezvous!!
URL:https://www.fourquarterbar.com/event/the-great-whiskey-rendezvous-6/
LOCATION:Four Quarter Bar\, 415 Main St.\, North Little Rock\, AR\, 72114\, United States
ATTACH;FMTTYPE=image/png:https://www.fourquarterbar.com/wp-content/uploads/2016/02/great-whiskey-rendevous.png
END:VEVENT
END:VCALENDAR