BEGIN:VCALENDAR
VERSION:2.0
PRODID:-// - ECPv5.14.0.2//NONSGML v1.0//EN
CALSCALE:GREGORIAN
METHOD:PUBLISH
X-ORIGINAL-URL:https://www.fourquarterbar.com
X-WR-CALDESC:Events for 
BEGIN:VTIMEZONE
TZID:America/Chicago
BEGIN:DAYLIGHT
TZOFFSETFROM:-0600
TZOFFSETTO:-0500
TZNAME:CDT
DTSTART:20190310T080000
END:DAYLIGHT
BEGIN:STANDARD
TZOFFSETFROM:-0500
TZOFFSETTO:-0600
TZNAME:CST
DTSTART:20191103T070000
END:STANDARD
END:VTIMEZONE
BEGIN:VEVENT
DTSTART;TZID=America/Chicago:20190802T170000
DTEND;TZID=America/Chicago:20190802T200000
DTSTAMP:20260423T014413
CREATED:20190710T005936Z
LAST-MODIFIED:20190710T005936Z
UID:1082-1564765200-1564776000@www.fourquarterbar.com
SUMMARY:The Juice
DESCRIPTION:10 pm\n$7 \nThe Juice\nwww.listentothejuice.com\n——————————————————————-\nThe Juice are a 5-headed\, hit-playing\, sing-along inducing\, dance party starting\, funkadelic\, rock and hip hop-playing fun machine based out of Fayetteville\, AR. Ingredients of this juice contain\, classic rock\, soul\, funk\, 90’s hip hop and pop\, as well as today’s favorites. This will be our first time in Little Rock\, come get down with us.
URL:https://www.fourquarterbar.com/event/the-juice/
LOCATION:Four Quarter Bar\, 415 Main St.\, North Little Rock\, AR\, 72114\, United States
ATTACH;FMTTYPE=image/jpeg:https://www.fourquarterbar.com/wp-content/uploads/2019/07/thejuice.jpg
END:VEVENT
END:VCALENDAR