BEGIN:VCALENDAR
VERSION:2.0
PRODID:-// - ECPv5.14.0.2//NONSGML v1.0//EN
CALSCALE:GREGORIAN
METHOD:PUBLISH
X-ORIGINAL-URL:https://www.fourquarterbar.com
X-WR-CALDESC:Events for 
BEGIN:VTIMEZONE
TZID:America/Chicago
BEGIN:DAYLIGHT
TZOFFSETFROM:-0600
TZOFFSETTO:-0500
TZNAME:CDT
DTSTART:20250309T080000
END:DAYLIGHT
BEGIN:STANDARD
TZOFFSETFROM:-0500
TZOFFSETTO:-0600
TZNAME:CST
DTSTART:20251102T070000
END:STANDARD
END:VTIMEZONE
BEGIN:VEVENT
DTSTART;TZID=America/Chicago:20250516T093000
DTEND;TZID=America/Chicago:20250517T010000
DTSTAMP:20260419T191416
CREATED:20250415T203441Z
LAST-MODIFIED:20250415T203441Z
UID:2578-1747387800-1747443600@www.fourquarterbar.com
SUMMARY:The NARS
DESCRIPTION:The NARS are bringing their Feel good music with amazing players to Four Quarter Bar this May!  \n9:30  \n$10 Cover
URL:https://www.fourquarterbar.com/event/the-nars/
LOCATION:Four Quarter Bar\, 415 Main St.\, North Little Rock\, AR\, 72114\, United States
END:VEVENT
END:VCALENDAR