BEGIN:VCALENDAR
VERSION:2.0
PRODID:-// - ECPv5.14.0.2//NONSGML v1.0//EN
CALSCALE:GREGORIAN
METHOD:PUBLISH
X-ORIGINAL-URL:https://www.fourquarterbar.com
X-WR-CALDESC:Events for 
BEGIN:VTIMEZONE
TZID:America/Chicago
BEGIN:DAYLIGHT
TZOFFSETFROM:-0600
TZOFFSETTO:-0500
TZNAME:CDT
DTSTART:20190310T080000
END:DAYLIGHT
BEGIN:STANDARD
TZOFFSETFROM:-0500
TZOFFSETTO:-0600
TZNAME:CST
DTSTART:20191103T070000
END:STANDARD
END:VTIMEZONE
BEGIN:VEVENT
DTSTART;TZID=America/Chicago:20190702T050000
DTEND;TZID=America/Chicago:20190702T210000
DTSTAMP:20260423T032040
CREATED:20190110T085904Z
LAST-MODIFIED:20190110T090633Z
UID:842-1562043600-1562101200@www.fourquarterbar.com
SUMMARY:The Reverend Horton Heat
DESCRIPTION:TICKETS AVAILABLE VIA CENTRAL ARKANSAS TICKETS.  CLICK HERE! \n\nBIO\n \nLoaded guns\, space heaters\, and big skies. Welcome to the lethal littered landscape of Jim Heath’s imagination. True to his high evangelical calling\, Jim is a Revelator\, both revealing & reinterpreting the country-blues-rock roots of American music. He’s a time-traveling space-cowboy on a endless inter stellar musical tour\, and we are all the richer & “psychobillier” for get ting to tag along. \nSeeing REVEREND HORTON HEAT live is a transformative experience. Flames come o the guitars. Heat singes your skin. There’s nothing like the primal tribal rock & roll transfiguration of a Reverend Horton Heat show. Jim be comes a slicked-back 1950′s rock & roll shaman channeling Screamin’ Jay Hawkins through Buddy Holly\, while Jimbo incinerates the Stand Up Bass. And then there are the “Heatettes”. Those foxy rockabilly chicks dressed in poodle-skirts and cowboy boots slamming the \nnight away. It’s like being magically transported into a Teen Exploitation picture from the 1950′s that’s currently taking place in the future. \nListening to the REVEREND HORTON HEAT is tantamount to injecting pure musical nitrous into the hotrod engine of your heart. The Reverend’s commandants are simple. \nROCK HARD\,  \nDRIVE FAST\,  \nAND LIVE TRUE. \nAnd no band on this\, or any other\, planet rocks harder\, drives faster\, or lives truer than the Reverend Horton Heat. These “itinerant preachers” actually practice what they preach. They live their lives by the Gospel of Rock & Roll. \nFrom the High-Octane Spaghetti-Western Wall of Sound in “Big Sky” — to the dark driving frenetic paranoia of “400 Bucks” – to the brain-melting Western Psychedelic Garage purity of “Psychobilly Freakout” — The Rev’s music is the perfect soundtrack to the DriveIn Movie of your life. \nJim Heath & Jimbo Wallace have chewed up more road than the Google Maps drivers. For twentyve Psychobilly years\, they have blazed an indelible\, unforgettable\, and meteoric trail across the globe with their unique blend of musical virtuosity\, legendary showman ship\, and mythic imagery. \n“Okay it’s time for me to put this loaded gun down\, jump in my Five Oh Ford\, and nurture my pig on the outskirts of Houston. I’ll be bring ing my love whip. See y’all later.”  Carty Talkington – Writer/Director \nRev your engines and catch the sermon on the road as it’s preached by everybody’s favorite Reverend. Don’t forget to keep an eye out for the 11th studio album from REV EREND HORTON HEAT\, boldly titled Rev\, due out January 21st.
URL:https://www.fourquarterbar.com/event/the-reverend-horton-heat-2/
LOCATION:Four Quarter Bar\, 415 Main St.\, North Little Rock\, AR\, 72114\, United States
ATTACH;FMTTYPE=image/jpeg:https://www.fourquarterbar.com/wp-content/uploads/2019/01/Rev_Heat-176-Edit_2.jpg
END:VEVENT
END:VCALENDAR