BEGIN:VCALENDAR
VERSION:2.0
PRODID:-// - ECPv5.14.0.2//NONSGML v1.0//EN
CALSCALE:GREGORIAN
METHOD:PUBLISH
X-ORIGINAL-URL:https://www.fourquarterbar.com
X-WR-CALDESC:Events for 
BEGIN:VTIMEZONE
TZID:America/Chicago
BEGIN:DAYLIGHT
TZOFFSETFROM:-0600
TZOFFSETTO:-0500
TZNAME:CDT
DTSTART:20190310T080000
END:DAYLIGHT
BEGIN:STANDARD
TZOFFSETFROM:-0500
TZOFFSETTO:-0600
TZNAME:CST
DTSTART:20191103T070000
END:STANDARD
END:VTIMEZONE
BEGIN:VEVENT
DTSTART;TZID=America/Chicago:20190906T170000
DTEND;TZID=America/Chicago:20190906T200000
DTSTAMP:20260422T235338
CREATED:20190823T112824Z
LAST-MODIFIED:20190823T115007Z
UID:1107-1567789200-1567800000@www.fourquarterbar.com
SUMMARY:The Smoking Flowers
DESCRIPTION:10 PM\n$7 Cover \n“A duo unafraid to take fascinating\, artistic risks. If what you’re after is Americana music given a poetic punk-rock kick\, then look no further.” Maverick
URL:https://www.fourquarterbar.com/event/the-smoking-flowers-3/
LOCATION:Four Quarter Bar\, 415 Main St.\, North Little Rock\, AR\, 72114\, United States
ATTACH;FMTTYPE=image/jpeg:https://www.fourquarterbar.com/wp-content/uploads/2019/08/smokingflowers.jpg
END:VEVENT
END:VCALENDAR