BEGIN:VCALENDAR
VERSION:2.0
PRODID:-// - ECPv5.14.0.2//NONSGML v1.0//EN
CALSCALE:GREGORIAN
METHOD:PUBLISH
X-ORIGINAL-URL:https://www.fourquarterbar.com
X-WR-CALDESC:Events for 
BEGIN:VTIMEZONE
TZID:America/Chicago
BEGIN:DAYLIGHT
TZOFFSETFROM:-0600
TZOFFSETTO:-0500
TZNAME:CDT
DTSTART:20160313T080000
END:DAYLIGHT
BEGIN:STANDARD
TZOFFSETFROM:-0500
TZOFFSETTO:-0600
TZNAME:CST
DTSTART:20161106T070000
END:STANDARD
END:VTIMEZONE
BEGIN:VEVENT
DTSTART;TZID=America/Chicago:20160527T170000
DTEND;TZID=America/Chicago:20160527T210000
DTSTAMP:20260422T012542
CREATED:20160413T073033Z
LAST-MODIFIED:20160413T073033Z
UID:200-1464368400-1464382800@www.fourquarterbar.com
SUMMARY:The Smoking Flowers
DESCRIPTION:
URL:https://www.fourquarterbar.com/event/the-smoking-flowers/
ATTACH;FMTTYPE=image/jpeg:https://www.fourquarterbar.com/wp-content/uploads/2016/04/smoking_flowers.jpg
END:VEVENT
END:VCALENDAR