BEGIN:VCALENDAR
VERSION:2.0
PRODID:-// - ECPv5.14.0.2//NONSGML v1.0//EN
CALSCALE:GREGORIAN
METHOD:PUBLISH
X-ORIGINAL-URL:https://www.fourquarterbar.com
X-WR-CALDESC:Events for 
BEGIN:VTIMEZONE
TZID:America/Chicago
BEGIN:DAYLIGHT
TZOFFSETFROM:-0600
TZOFFSETTO:-0500
TZNAME:CDT
DTSTART:20190310T080000
END:DAYLIGHT
BEGIN:STANDARD
TZOFFSETFROM:-0500
TZOFFSETTO:-0600
TZNAME:CST
DTSTART:20191103T070000
END:STANDARD
END:VTIMEZONE
BEGIN:VEVENT
DTSTART;TZID=America/Chicago:20190511T170000
DTEND;TZID=America/Chicago:20190511T200000
DTSTAMP:20260423T061523
CREATED:20190501T001737Z
LAST-MODIFIED:20190501T002512Z
UID:1024-1557594000-1557604800@www.fourquarterbar.com
SUMMARY:The Standby // Presented by Motion Agency
DESCRIPTION:PRESENTED BY MOTION AGENCY \nWhen: May 11\, 2019\nWhere: Four Quarter Bar\nWhat: The Standby + Local Support \n$8 ADV // $10 DOS — 21+
URL:https://www.fourquarterbar.com/event/the-standby-presented-by-motion-agency/
LOCATION:Four Quarter Bar\, 415 Main St.\, North Little Rock\, AR\, 72114\, United States
ATTACH;FMTTYPE=image/jpeg:https://www.fourquarterbar.com/wp-content/uploads/2019/04/TheStandby.jpg
END:VEVENT
END:VCALENDAR