BEGIN:VCALENDAR
VERSION:2.0
PRODID:-// - ECPv5.14.0.2//NONSGML v1.0//EN
CALSCALE:GREGORIAN
METHOD:PUBLISH
X-ORIGINAL-URL:https://www.fourquarterbar.com
X-WR-CALDESC:Events for 
BEGIN:VTIMEZONE
TZID:America/Chicago
BEGIN:DAYLIGHT
TZOFFSETFROM:-0600
TZOFFSETTO:-0500
TZNAME:CDT
DTSTART:20190310T080000
END:DAYLIGHT
BEGIN:STANDARD
TZOFFSETFROM:-0500
TZOFFSETTO:-0600
TZNAME:CST
DTSTART:20191103T070000
END:STANDARD
END:VTIMEZONE
BEGIN:VEVENT
DTSTART;TZID=America/Chicago:20191013T163000
DTEND;TZID=America/Chicago:20191013T200000
DTSTAMP:20260422T222220
CREATED:20190925T062854Z
LAST-MODIFIED:20190925T063752Z
UID:1138-1570984200-1570996800@www.fourquarterbar.com
SUMMARY:Treasure Chest Burlesque Presents "A Nightmare On Main Street"
DESCRIPTION:1\,2 we’re coming for you…\n3\,4 you’ll be wanting more…\n5\,6\, gonna get your fix…\n7\,8 gonna stay up late\n9\,10 let the fun begin….\nTreasure Chest Burlesque presents…\nA Nightmare on Main Street 🦇\nJoin us for a night of sexy\, spooky fun at central Arkansas’s most HAUNTED bar! 💋👻\nFeaturing the talents of Sparkles\, Erica Blue\, Stormey Weather\, Maxie Fauna\, Ruby Rebellion\, Circus Heart\, & Dylan Elliot.\nWith special help from our stage pearl\, Eric Carter!\nWe’ll see you in your dreams….
URL:https://www.fourquarterbar.com/event/treasure-chest-burlesque-presents-a-nightmare-on-main-street/
LOCATION:Four Quarter Bar\, 415 Main St.\, North Little Rock\, AR\, 72114\, United States
ATTACH;FMTTYPE=image/jpeg:https://www.fourquarterbar.com/wp-content/uploads/2019/09/NightmareOnMainStreet.jpg
END:VEVENT
END:VCALENDAR