BEGIN:VCALENDAR
VERSION:2.0
PRODID:-// - ECPv5.14.0.2//NONSGML v1.0//EN
CALSCALE:GREGORIAN
METHOD:PUBLISH
X-ORIGINAL-URL:https://www.fourquarterbar.com
X-WR-CALDESC:Events for 
BEGIN:VTIMEZONE
TZID:America/Chicago
BEGIN:DAYLIGHT
TZOFFSETFROM:-0600
TZOFFSETTO:-0500
TZNAME:CDT
DTSTART:20210314T080000
END:DAYLIGHT
BEGIN:STANDARD
TZOFFSETFROM:-0500
TZOFFSETTO:-0600
TZNAME:CST
DTSTART:20211107T070000
END:STANDARD
END:VTIMEZONE
BEGIN:VEVENT
DTSTART;TZID=America/Chicago:20210619T220000
DTEND;TZID=America/Chicago:20210620T220000
DTSTAMP:20260422T091043
CREATED:20210610T022127Z
LAST-MODIFIED:20210610T022127Z
UID:1484-1624140000-1624226400@www.fourquarterbar.com
SUMMARY:TryMore MOJO
DESCRIPTION:TryMore MOJO returns to Little Rock\, AR Saturday 6/19/21!\nAfter two PACKED shows pre-COVID\, TryMore MOJO is ready to pick up where we left off and have a proper Saturday night rager!\nBlock party ends at 10pm and MOJO kicks off 2 sets of space funk to keep the night going!\n—\nAbout TryMore MOJO:\nSeeking the highest of interstellar peaks\, TryMoreMOJO guides the listener on their mission through space with their blend of funky riffs\, modular soundscapes\, energetic vocals\, and heavy grooves; inviting fans to contribute their energy in a give-and-take partnership between performer and listener.\nThe Dallas\, TX based group has worked tirelessly to solidify and expand their position in the southern region. Starting with a sold out debut show in 2016 followed by continuous regional performances\, and nominations for “Best Funk Act” & “Best Electronic Act” by the Denton Area Music Awards before the end their first year; MOJO showed a tangible amount of momentum and persistence\, opening doors to many future opportunities.\nThat momentum has started to steamroll with the band sharing stages with national acts such as\, Snarky Puppy\, STS9\, Papadosio\, TAUK\, Charli 2na\, Naughty Professor\, Aqueous\, Chris Dave & The DrumHeadz\, BIG Something\, CBDB\, The Werks\, Ghost Light\, JJ Grey\, Eminence Ensemble\, Cycles\, Steady Flow\, Voodoo Visionary\, Iceman Special\, Forgotten Space\, Funk You\, The Jauntee and more.\nMeticulously working in the studio\, MOJO is set to release their debut EP in Spring 2020\, all the whilst maintaining a road-ready regional presence. With a growing fanbase eager to see what this band of unique personalities has to bring to the table\, Its The Time to “TryMoreMOJO”\n“MOJO an upcoming funk/electronic band are exactly what you need after a long week. Not only do they bring the grooves needed to wash away the stress of the week\, the visuals provided are simply astounding. MOJO is like watching your own personal Pink Floyd\, meets Rage Against the Machine\, meets STS9\, yes I went there. Do not miss these guys…”
URL:https://www.fourquarterbar.com/event/trymore-mojo/
LOCATION:Four Quarter Bar\, 415 Main St.\, North Little Rock\, AR\, 72114\, United States
ATTACH;FMTTYPE=image/jpeg:https://www.fourquarterbar.com/wp-content/uploads/2020/01/trymoremojo_2020102.jpg
END:VEVENT
END:VCALENDAR