BEGIN:VCALENDAR
VERSION:2.0
PRODID:-// - ECPv5.14.0.2//NONSGML v1.0//EN
CALSCALE:GREGORIAN
METHOD:PUBLISH
X-ORIGINAL-URL:https://www.fourquarterbar.com
X-WR-CALDESC:Events for 
BEGIN:VTIMEZONE
TZID:America/Chicago
BEGIN:DAYLIGHT
TZOFFSETFROM:-0600
TZOFFSETTO:-0500
TZNAME:CDT
DTSTART:20250309T080000
END:DAYLIGHT
BEGIN:STANDARD
TZOFFSETFROM:-0500
TZOFFSETTO:-0600
TZNAME:CST
DTSTART:20251102T070000
END:STANDARD
END:VTIMEZONE
BEGIN:VEVENT
DTSTART;TZID=America/Chicago:20251126T210000
DTEND;TZID=America/Chicago:20251127T010000
DTSTAMP:20260419T110837
CREATED:20251104T202824Z
LAST-MODIFIED:20251104T204253Z
UID:2762-1764190800-1764205200@www.fourquarterbar.com
SUMMARY:Turkey Jam w/ Jonathan DeGazarian and Friends
DESCRIPTION:Kick off the the Turkey Day Celebrations with Jonathan DeGazarian and Friends at Four Quarter Bar’s Turkey Jam this November \nCover: $8 \nStarts: 9:00 pm
URL:https://www.fourquarterbar.com/event/turkey-jam-w-jonathan-degazarian-and-friends/
LOCATION:Four Quarter Bar\, 415 Main St.\, North Little Rock\, AR\, 72114\, United States
END:VEVENT
END:VCALENDAR