BEGIN:VCALENDAR
VERSION:2.0
PRODID:-// - ECPv5.14.0.2//NONSGML v1.0//EN
CALSCALE:GREGORIAN
METHOD:PUBLISH
X-ORIGINAL-URL:https://www.fourquarterbar.com
X-WR-CALDESC:Events for 
BEGIN:VTIMEZONE
TZID:America/Chicago
BEGIN:DAYLIGHT
TZOFFSETFROM:-0600
TZOFFSETTO:-0500
TZNAME:CDT
DTSTART:20190310T080000
END:DAYLIGHT
BEGIN:STANDARD
TZOFFSETFROM:-0500
TZOFFSETTO:-0600
TZNAME:CST
DTSTART:20191103T070000
END:STANDARD
END:VTIMEZONE
BEGIN:VEVENT
DTSTART;TZID=America/Chicago:20190712T170000
DTEND;TZID=America/Chicago:20190712T200000
DTSTAMP:20260423T032312
CREATED:20190701T155702Z
LAST-MODIFIED:20190701T155702Z
UID:1075-1562950800-1562961600@www.fourquarterbar.com
SUMMARY:Urban Pioneers w/ Big Red Flag
DESCRIPTION:Show Time: 10 pm\n\n\n$7 Cover \n\n\n \n\n\nBIO\n\n\n \n\n\n It’s fairly clear given the life and career hurdles the Urban Pioneers have overcome that nothing’s going to stop them: not super-aggro hotel clerks who evidently have something against overalls; not extreme weather and shit roads; not the system; not anything. Instead\, they are the tops when it comes to brushing themselves off and just getting back to work\, doing what they love to do\, what they couldn’t stop doing if they wanted to: making music.
URL:https://www.fourquarterbar.com/event/urban-pioneers-w-big-red-flag/
LOCATION:Four Quarter Bar\, 415 Main St.\, North Little Rock\, AR\, 72114\, United States
ATTACH;FMTTYPE=image/jpeg:https://www.fourquarterbar.com/wp-content/uploads/2019/07/UrbanPioneers.jpg
END:VEVENT
END:VCALENDAR