BEGIN:VCALENDAR
VERSION:2.0
PRODID:-// - ECPv5.14.0.2//NONSGML v1.0//EN
CALSCALE:GREGORIAN
METHOD:PUBLISH
X-ORIGINAL-URL:https://www.fourquarterbar.com
X-WR-CALDESC:Events for 
BEGIN:VTIMEZONE
TZID:America/Chicago
BEGIN:DAYLIGHT
TZOFFSETFROM:-0600
TZOFFSETTO:-0500
TZNAME:CDT
DTSTART:20200308T080000
END:DAYLIGHT
BEGIN:STANDARD
TZOFFSETFROM:-0500
TZOFFSETTO:-0600
TZNAME:CST
DTSTART:20201101T070000
END:STANDARD
END:VTIMEZONE
BEGIN:VEVENT
DTSTART;TZID=America/Chicago:20200111T160000
DTEND;TZID=America/Chicago:20200111T190000
DTSTAMP:20260422T173919
CREATED:20191220T225530Z
LAST-MODIFIED:20191220T225530Z
UID:1234-1578758400-1578769200@www.fourquarterbar.com
SUMMARY:Woody & Sunshine
DESCRIPTION:The Infamous Woody & Sunshine!\nEarth’s Two-Person Jam-Band!\nJanuary 11th\, 2020!\n9pm-12am! \nwww.woodyandsunshine.com \nwww.facebook.com/woodyandsunshine \nwww.instagram.com/woodyandsunshine \nhttps://www.youtube.com/watch?v=83u2ur-jVpY \nhttps://www.youtube.com/watch?v=_ouTzhB9NsY&t=401s \nIt’s The Infamous Woody and Sunshine. They’re a pair of musical adventurers with an insatiable appetite for musical diversity and a broad palette of tastes and genres. Guitar-shavin’. Banjo-blazin’. World-savin’. A chance to grab the comet by it’s tail on a kaleidoscopic journey through the cosmos. \nSince 2011 Woody and Sunshine have been making music together. Since 2012 they have played over 400 live concerts and festivals all across the U.S.
URL:https://www.fourquarterbar.com/event/woody-sunshine-2/
LOCATION:Four Quarter Bar\, 415 Main St.\, North Little Rock\, AR\, 72114\, United States
ATTACH;FMTTYPE=image/jpeg:https://www.fourquarterbar.com/wp-content/uploads/2019/07/WoodyandSunshine2.jpg
END:VEVENT
END:VCALENDAR