BEGIN:VCALENDAR
VERSION:2.0
PRODID:-// - ECPv5.14.0.2//NONSGML v1.0//EN
CALSCALE:GREGORIAN
METHOD:PUBLISH
X-ORIGINAL-URL:https://www.fourquarterbar.com
X-WR-CALDESC:Events for 
BEGIN:VTIMEZONE
TZID:America/Chicago
BEGIN:DAYLIGHT
TZOFFSETFROM:-0600
TZOFFSETTO:-0500
TZNAME:CDT
DTSTART:20190310T080000
END:DAYLIGHT
BEGIN:STANDARD
TZOFFSETFROM:-0500
TZOFFSETTO:-0600
TZNAME:CST
DTSTART:20191103T070000
END:STANDARD
END:VTIMEZONE
BEGIN:VEVENT
DTSTART;TZID=America/Chicago:20190427T170000
DTEND;TZID=America/Chicago:20190427T200000
DTSTAMP:20260423T074821
CREATED:20190423T023323Z
LAST-MODIFIED:20190423T023323Z
UID:1016-1556384400-1556395200@www.fourquarterbar.com
SUMMARY:Woody & Sunshine
DESCRIPTION:Woody & Sunshine\n4.27.19: 10:30pm-1:30am\nFour Quarter Bar\n415 Main Street\nLittle Rock\, AR\n$7 door \nhttps://www.woodyandsunshine.com \nfacebook.com/woodyandsunshine \ninstagram.com/woodyandsunshine
URL:https://www.fourquarterbar.com/event/woody-sunshine/
LOCATION:Four Quarter Bar\, 415 Main St.\, North Little Rock\, AR\, 72114\, United States
ATTACH;FMTTYPE=image/jpeg:https://www.fourquarterbar.com/wp-content/uploads/2019/04/WoodyandSunshine.jpg
END:VEVENT
END:VCALENDAR