BEGIN:VCALENDAR
VERSION:2.0
PRODID:-// - ECPv5.14.0.2//NONSGML v1.0//EN
CALSCALE:GREGORIAN
METHOD:PUBLISH
X-ORIGINAL-URL:https://www.fourquarterbar.com
X-WR-CALDESC:Events for 
BEGIN:VTIMEZONE
TZID:America/Chicago
BEGIN:DAYLIGHT
TZOFFSETFROM:-0600
TZOFFSETTO:-0500
TZNAME:CDT
DTSTART:20250309T080000
END:DAYLIGHT
BEGIN:STANDARD
TZOFFSETFROM:-0500
TZOFFSETTO:-0600
TZNAME:CST
DTSTART:20251102T070000
END:STANDARD
END:VTIMEZONE
BEGIN:VEVENT
DTSTART;TZID=America/Chicago:20250213T080000
DTEND;TZID=America/Chicago:20250213T170000
DTSTAMP:20260419T222759
CREATED:20250213T143400Z
LAST-MODIFIED:20250213T143400Z
UID:2492-1739433600-1739466000@www.fourquarterbar.com
SUMMARY:Yongi LIve
DESCRIPTION:9:30 PM$8 Cover
URL:https://www.fourquarterbar.com/event/yongi-live/
ATTACH;FMTTYPE=image/jpeg:https://www.fourquarterbar.com/wp-content/uploads/2025/02/Yongi.jpg
END:VEVENT
END:VCALENDAR