BEGIN:VCALENDAR
VERSION:2.0
PRODID:-// - ECPv5.14.0.2//NONSGML v1.0//EN
CALSCALE:GREGORIAN
METHOD:PUBLISH
X-ORIGINAL-URL:https://www.fourquarterbar.com
X-WR-CALDESC:Events for 
BEGIN:VTIMEZONE
TZID:America/Chicago
BEGIN:DAYLIGHT
TZOFFSETFROM:-0600
TZOFFSETTO:-0500
TZNAME:CDT
DTSTART:20190310T080000
END:DAYLIGHT
BEGIN:STANDARD
TZOFFSETFROM:-0500
TZOFFSETTO:-0600
TZNAME:CST
DTSTART:20191103T070000
END:STANDARD
END:VTIMEZONE
BEGIN:VEVENT
DTSTART;TZID=America/Chicago:20191116T160000
DTEND;TZID=America/Chicago:20191116T190000
DTSTAMP:20260422T204100
CREATED:20191112T041847Z
LAST-MODIFIED:20191112T041847Z
UID:1195-1573920000-1573930800@www.fourquarterbar.com
SUMMARY:Zakk and Big Papa Binns
DESCRIPTION:10pm\n$7 Start
URL:https://www.fourquarterbar.com/event/zakk-and-big-papa-binns/
ATTACH;FMTTYPE=image/jpeg:https://www.fourquarterbar.com/wp-content/uploads/2019/01/zakk_big_papa.jpg
END:VEVENT
END:VCALENDAR